BEGIN:VCALENDAR
VERSION:2.0
PRODID:-//Squarespace Inc/Squarespace 6//v6//EN
BEGIN:VEVENT
UID:5dabc13f08ba722825d5b111@squarespace.com
DTSTAMP:20191102T054302Z
DTSTART:20191027T010000Z
DTEND:20191027T040000Z
SUMMARY:Live Music @ Tilba Valley Winery &amp\; Ale House
END:VEVENT
END:VCALENDAR
