BEGIN:VCALENDAR
VERSION:2.0
PRODID:-//Squarespace Inc/Squarespace 6//v6//EN
BEGIN:VEVENT
UID:5dbd17716164d93f9b4db094@squarespace.com
DTSTAMP:20191103T025814Z
DTSTART:20191105T010000Z
DTEND:20191105T050000Z
SUMMARY:Melbourne Cup @ Tilba Valley Winery &amp\; Ale House
END:VEVENT
END:VCALENDAR
