BEGIN:VCALENDAR
VERSION:2.0
PRODID:-//Squarespace Inc/Squarespace 6//v6//EN
BEGIN:VEVENT
UID:5dabc72a08ba722825d608cb@squarespace.com
DTSTAMP:20191020T023353Z
DTSTART:20191103T013000Z
DTEND:20191103T040000Z
SUMMARY:Live Music @ Tilba Valley Winery &amp\; Ale House
END:VEVENT
END:VCALENDAR
