BEGIN:VCALENDAR
VERSION:2.0
PRODID:-//Squarespace Inc/Squarespace 6//v6//EN
BEGIN:VEVENT
UID:5d4518118fefae000111331a@squarespace.com
DTSTAMP:20200222T050909Z
DTSTART:20200301T010000Z
DTEND:20200301T043000Z
SUMMARY:Dog Trumpet @ Quarterdeck Narooma
GEO:-36.217092;150.122411
LOCATION:Riverside Drive\, Narooma
END:VEVENT
END:VCALENDAR
