BEGIN:VCALENDAR
VERSION:2.0
PRODID:-//Squarespace Inc/Squarespace 6//v6//EN
BEGIN:VEVENT
UID:5d609ad4d09a5d00013ecbb0@squarespace.com
DTSTAMP:20190824T020719Z
DTSTART:20190906T100000Z
DTEND:20190906T123000Z
SUMMARY:Live Music @ Bermagui Country Club
END:VEVENT
END:VCALENDAR
