BEGIN:VCALENDAR
VERSION:2.0
PRODID:-//Squarespace Inc/Squarespace 6//v6//EN
BEGIN:VEVENT
UID:5d94507531a18d6551e23fe7@squarespace.com
DTSTAMP:20191002T072414Z
DTSTART:20191018T090000Z
DTEND:20191018T113000Z
SUMMARY:Live Music @ Bermagui Country Club
END:VEVENT
END:VCALENDAR
