BEGIN:VCALENDAR
VERSION:2.0
PRODID:-//Squarespace Inc/Squarespace 6//v6//EN
BEGIN:VEVENT
UID:5d450f02b176780001f93798@squarespace.com
DTSTAMP:20190805T021344Z
DTSTART:20190816T100000Z
DTEND:20190816T123000Z
SUMMARY:Live Music @ Bermagui Country Club
GEO:-36.427864;150.073348
LOCATION:Tuross Street\, Bermagui
END:VEVENT
END:VCALENDAR
