BEGIN:VCALENDAR
VERSION:2.0
PRODID:-//Squarespace Inc/Squarespace 6//v6//EN
BEGIN:VEVENT
UID:5d6f58148eae490001bf4156@squarespace.com
DTSTAMP:20190904T062313Z
DTSTART:20190908T060000Z
DTEND:20190908T090000Z
SUMMARY:Live Music @ Bermagui Beach Hotel
END:VEVENT
END:VCALENDAR
