BEGIN:VCALENDAR
VERSION:2.0
PRODID:-//Squarespace Inc/Squarespace 6//v6//EN
BEGIN:VEVENT
UID:5d9451388a1b0b3affb674a8@squarespace.com
DTSTAMP:20191002T072715Z
DTSTART:20191013T050000Z
DTEND:20191013T080000Z
SUMMARY:Live Music @ Bermagui Beach Hotel
END:VEVENT
END:VCALENDAR
