BEGIN:VCALENDAR
VERSION:2.0
PRODID:-//Squarespace Inc/Squarespace 6//v6//EN
BEGIN:VEVENT
UID:5d6f58b99bf3360001184219@squarespace.com
DTSTAMP:20190904T062559Z
DTSTART:20190929T040000Z
DTEND:20190929T070000Z
SUMMARY:Live Music @ Bermagui Beach Hotel
END:VEVENT
END:VCALENDAR
