BEGIN:VCALENDAR
VERSION:2.0
PRODID:-//Squarespace Inc/Squarespace 6//v6//EN
BEGIN:VEVENT
UID:5d6f5884ddc37d000147ae7f@squarespace.com
DTSTAMP:20190904T062448Z
DTSTART:20190922T060000Z
DTEND:20190922T090000Z
SUMMARY:Live Music @ Bermagui Beach Hotel
END:VEVENT
END:VCALENDAR
