BEGIN:VCALENDAR
VERSION:2.0
PRODID:-//Squarespace Inc/Squarespace 6//v6//EN
BEGIN:VEVENT
UID:5d945108fdc2ac6834702043@squarespace.com
DTSTAMP:20191002T072638Z
DTSTART:20191006T050000Z
DTEND:20191006T080000Z
SUMMARY:Live Music @ Bermagui Beach Hotel
END:VEVENT
END:VCALENDAR
