BEGIN:VCALENDAR
VERSION:2.0
PRODID:-//Squarespace Inc/Squarespace 6//v6//EN
BEGIN:VEVENT
UID:5dbcd06390a19c6c656b8f38@squarespace.com
DTSTAMP:20191102T004756Z
DTSTART:20191206T060000Z
DTEND:20191206T103000Z
SUMMARY:Light Up Cobargo - Street Fest
END:VEVENT
END:VCALENDAR
