BEGIN:VCALENDAR
VERSION:2.0
PRODID:-//Squarespace Inc/Squarespace 6//v6//EN
BEGIN:VEVENT
UID:5de0ca49e6b0e7013a54f000@squarespace.com
DTSTAMP:20191129T073603Z
DTSTART:20191227T080000Z
DTEND:20191227T113000Z
SUMMARY:Open Mic @ The River Rock Cafe
END:VEVENT
END:VCALENDAR
