BEGIN:VCALENDAR
VERSION:2.0
PRODID:-//Squarespace Inc/Squarespace 6//v6//EN
BEGIN:VEVENT
UID:5d4a581ba40bff00012b0ffe@squarespace.com
DTSTAMP:20190808T013033Z
DTSTART:20190818T050000Z
DTEND:20190818T080000Z
SUMMARY:Lachy Hamilton @ Murrah Hall
GEO:-36.533696;150.028687
LOCATION:2989 Tathra-Bermagui Road\, Murrah
END:VEVENT
END:VCALENDAR
