BEGIN:VCALENDAR
VERSION:2.0
PRODID:-//Squarespace Inc/Squarespace 6//v6//EN
BEGIN:VEVENT
UID:5e3e045c4b6b8940ee5b8de2@squarespace.com
DTSTAMP:20200208T004643Z
DTSTART:20200222T080000Z
DTEND:20200222T120000Z
SUMMARY:Kim Churchill @ Murrah Hall
END:VEVENT
END:VCALENDAR
