BEGIN:VCALENDAR
VERSION:2.0
PRODID:-//Squarespace Inc/Squarespace 6//v6//EN
BEGIN:VEVENT
UID:5d8c5b3d37aac41d40991faf@squarespace.com
DTSTAMP:20190926T064020Z
DTSTART:20191001T003000Z
DTEND:20191001T023000Z
SUMMARY:Kids Holiday Art Program @ Studio 26
END:VEVENT
END:VCALENDAR
