BEGIN:VCALENDAR
VERSION:2.0
PRODID:-//Squarespace Inc/Squarespace 6//v6//EN
BEGIN:VEVENT
UID:5d8c5e7c667f4047f4adb2fb@squarespace.com
DTSTAMP:20190926T064650Z
DTSTART:20191008T233000Z
DTEND:20191009T013000Z
SUMMARY:Kid's Holiday Art Program @ Studio 26
END:VEVENT
END:VCALENDAR
