BEGIN:VCALENDAR
VERSION:2.0
PRODID:-//Squarespace Inc/Squarespace 6//v6//EN
BEGIN:VEVENT
UID:5d8c5e309238be297aff064d@squarespace.com
DTSTAMP:20190926T064505Z
DTSTART:20191007T233000Z
DTEND:20191008T013000Z
SUMMARY:Kid's Holiday Art Program @ Studio 26
END:VEVENT
END:VCALENDAR
