BEGIN:VCALENDAR
VERSION:2.0
PRODID:-//Squarespace Inc/Squarespace 6//v6//EN
BEGIN:VEVENT
UID:5d8c5c49facc592fdb15a817@squarespace.com
DTSTAMP:20190926T064126Z
DTSTART:20191004T003000Z
DTEND:20191004T023000Z
SUMMARY:Kid's Holiday Art Program @ Studio 26
END:VEVENT
END:VCALENDAR
