BEGIN:VCALENDAR
VERSION:2.0
PRODID:-//Squarespace Inc/Squarespace 6//v6//EN
BEGIN:VEVENT
UID:5d8c5a023e73ce4ee31f5b7d@squarespace.com
DTSTAMP:20190926T063954Z
DTSTART:20190930T003000Z
DTEND:20190930T023000Z
SUMMARY:Kid's Holiday Art Program @ Studio 26
END:VEVENT
END:VCALENDAR
