BEGIN:VCALENDAR
VERSION:2.0
PRODID:-//Squarespace Inc/Squarespace 6//v6//EN
BEGIN:VEVENT
UID:5e310763d21fdf2df7124e65@squarespace.com
DTSTAMP:20200129T041759Z
DTSTART:20200227T040000Z
DTEND:20200227T060000Z
SUMMARY:Bermagui Growers Market
END:VEVENT
END:VCALENDAR
