BEGIN:VCALENDAR
VERSION:2.0
PRODID:-//Squarespace Inc/Squarespace 6//v6//EN
BEGIN:VEVENT
UID:5e310ed3dd743e65e649f440@squarespace.com
DTSTAMP:20200129T044939Z
DTSTART:20200221T080000Z
DTEND:20200221T110000Z
SUMMARY:Open Mic @ The River Rock Cafe
END:VEVENT
END:VCALENDAR
