BEGIN:VCALENDAR
VERSION:2.0
PRODID:-//Squarespace Inc/Squarespace 6//v6//EN
BEGIN:VEVENT
UID:5d8c5f1c3d8f090e24184140@squarespace.com
DTSTAMP:20190926T064917Z
DTSTART:20191009T233000Z
DTEND:20191010T013000Z
SUMMARY:Kid's Holiday Art Program @ Studio 26
END:VEVENT
END:VCALENDAR
