BEGIN:VCALENDAR
VERSION:2.0
PRODID:-//Squarespace Inc/Squarespace 6//v6//EN
BEGIN:VEVENT
UID:5d8581133a0839119076809c@squarespace.com
DTSTAMP:20190921T020529Z
DTSTART:20190926T000000Z
DTEND:20191027T060000Z
SUMMARY:Ivy Hill Gallery Exhibition - Rick Anderson\, Kate Bender\, Keith B
 ender
END:VEVENT
END:VCALENDAR
