BEGIN:VCALENDAR
VERSION:2.0
PRODID:-//Squarespace Inc/Squarespace 6//v6//EN
BEGIN:VEVENT
UID:5dcce4a9aba5ea35cca85d61@squarespace.com
DTSTAMP:20191114T052727Z
DTSTART:20191116T070000Z
DTEND:20191116T113000Z
SUMMARY:Hometowns @ Murrah Hall
END:VEVENT
END:VCALENDAR
