BEGIN:VCALENDAR
VERSION:2.0
PRODID:-//Squarespace Inc/Squarespace 6//v6//EN
BEGIN:VEVENT
UID:5de1d5c8d6b49b1a7ada6523@squarespace.com
DTSTAMP:20191130T023714Z
DTSTART:20191231T060000Z
DTEND:20191231T080000Z
SUMMARY:Barefoot Bowls @ Bermagui Country Club
END:VEVENT
END:VCALENDAR
