BEGIN:VCALENDAR
VERSION:2.0
PRODID:-//Squarespace Inc/Squarespace 6//v6//EN
BEGIN:VEVENT
UID:5df467ba460f77349d982a6a@squarespace.com
DTSTAMP:20191214T044211Z
DTSTART:20191220T070000Z
DTEND:20191220T093000Z
SUMMARY:Ham-athon @ Bermagui Country Club
END:VEVENT
END:VCALENDAR
