BEGIN:VCALENDAR
VERSION:2.0
PRODID:-//Squarespace Inc/Squarespace 6//v6//EN
BEGIN:VEVENT
UID:5e0046e74328177cde56ae2f@squarespace.com
DTSTAMP:20191223T044807Z
DTSTART:20191226T050000Z
DTEND:20191226T080000Z
SUMMARY:Live Music @ Bermagui Beach Hotel
END:VEVENT
END:VCALENDAR
