BEGIN:VCALENDAR
VERSION:2.0
PRODID:-//Squarespace Inc/Squarespace 6//v6//EN
BEGIN:VEVENT
UID:5de0b41011c57f4363ed7c65@squarespace.com
DTSTAMP:20191129T062206Z
DTSTART:20191201T013000Z
DTEND:20191201T043000Z
SUMMARY:Live Music @ Tilba Valley Winery &amp\; Ale House
END:VEVENT
END:VCALENDAR
