BEGIN:VCALENDAR
VERSION:2.0
PRODID:-//Squarespace Inc/Squarespace 6//v6//EN
BEGIN:VEVENT
UID:5e310ebcd56e0e36eb04e2a5@squarespace.com
DTSTAMP:20200129T044916Z
DTSTART:20200214T080000Z
DTEND:20200214T110000Z
SUMMARY:Open Mic @ The River Rock Cafe
END:VEVENT
END:VCALENDAR
