BEGIN:VCALENDAR
VERSION:2.0
PRODID:-//Squarespace Inc/Squarespace 6//v6//EN
BEGIN:VEVENT
UID:5de1d64a305b2260c9be2097@squarespace.com
DTSTAMP:20200129T133422Z
DTSTART:20200130T060000Z
DTEND:20200130T080000Z
SUMMARY:Twilight Bowls @ Bermagui Country Club
END:VEVENT
END:VCALENDAR
