BEGIN:VCALENDAR
VERSION:2.0
PRODID:-//Squarespace Inc/Squarespace 6//v6//EN
BEGIN:VEVENT
UID:5dcf6af76ad8ea6615eec071@squarespace.com
DTSTAMP:20191116T032428Z
DTSTART:20191123T080000Z
DTEND:20191123T113000Z
SUMMARY:Fred Smith @ Murrah Hall
END:VEVENT
END:VCALENDAR
