BEGIN:VCALENDAR
VERSION:2.0
PRODID:-//Squarespace Inc/Squarespace 6//v6//EN
BEGIN:VEVENT
UID:5e39008c35c32469ceb30a14@squarespace.com
DTSTAMP:20200204T052716Z
DTSTART:20200209T050000Z
DTEND:20200209T080000Z
SUMMARY:Live Music @ Bermagui Beach Hotel
END:VEVENT
END:VCALENDAR
