BEGIN:VCALENDAR
VERSION:2.0
PRODID:-//Squarespace Inc/Squarespace 6//v6//EN
BEGIN:VEVENT
UID:5d7f228ffef3e33f1b02874c@squarespace.com
DTSTAMP:20191012T034301Z
DTSTART:20191101T010000Z
DTEND:20191103T040000Z
SUMMARY:Four Winds 'Spring' Festival
END:VEVENT
END:VCALENDAR
