BEGIN:VCALENDAR
VERSION:2.0
PRODID:-//Squarespace Inc/Squarespace 6//v6//EN
BEGIN:VEVENT
UID:5d7f2152478b13088d8cf6c6@squarespace.com
DTSTAMP:20190916T054904Z
DTSTART:20191006T223000Z
DTEND:20191007T060000Z
SUMMARY:Four Winds Singing for Your Soul
END:VEVENT
END:VCALENDAR
