BEGIN:VCALENDAR
VERSION:2.0
PRODID:-//Squarespace Inc/Squarespace 6//v6//EN
BEGIN:VEVENT
UID:5d4515841c7ed700015b6338@squarespace.com
DTSTAMP:20190808T012931Z
DTSTART:20190818T010000Z
DTEND:20190818T030000Z
SUMMARY:Four Winds Masterclass - Kenny Broberg on Piano
GEO:-36.499352;150.049092
LOCATION:Windsong Pavilio\, Four Winds site\, Four Winds Road\, Barragga Ba
 y
END:VEVENT
END:VCALENDAR
