BEGIN:VCALENDAR
VERSION:2.0
PRODID:-//Squarespace Inc/Squarespace 6//v6//EN
BEGIN:VEVENT
UID:5d7f273248ca68660502f189@squarespace.com
DTSTAMP:20191012T034350Z
DTSTART:20191215T090000Z
DTEND:20191215T110000Z
SUMMARY:Four Winds Carols in the Pavilion
END:VEVENT
END:VCALENDAR
