BEGIN:VCALENDAR
VERSION:2.0
PRODID:-//Squarespace Inc/Squarespace 6//v6//EN
BEGIN:VEVENT
UID:5dbcc04c8fc82a626b7254bf@squarespace.com
DTSTAMP:20191101T233153Z
DTSTART:20191117T050000Z
DTEND:20191117T080000Z
SUMMARY:Live Music @ Bermagui Beach Hotel
END:VEVENT
END:VCALENDAR
