BEGIN:VCALENDAR
VERSION:2.0
PRODID:-//Squarespace Inc/Squarespace 6//v6//EN
BEGIN:VEVENT
UID:5d9450aa52cf0e5a97eee705@squarespace.com
DTSTAMP:20191002T072502Z
DTSTART:20191025T090000Z
DTEND:20191025T113000Z
SUMMARY:Live Music @ Bermagui Country Club
END:VEVENT
END:VCALENDAR
