BEGIN:VCALENDAR
VERSION:2.0
PRODID:-//Squarespace Inc/Squarespace 6//v6//EN
BEGIN:VEVENT
UID:5e55bf5d672e8272380d892e@squarespace.com
DTSTAMP:20200226T011203Z
DTSTART:20200308T050000Z
DTEND:20200308T080000Z
SUMMARY:Live Music @ Bermagui Beach Hotel
END:VEVENT
END:VCALENDAR
