BEGIN:VCALENDAR
VERSION:2.0
PRODID:-//Squarespace Inc/Squarespace 6//v6//EN
BEGIN:VEVENT
UID:5de31e9bc573c502d7e62220@squarespace.com
DTSTAMP:20200208T004309Z
DTSTART:20200605T083000Z
DTEND:20200605T133000Z
SUMMARY:"Dreams" Fleetwod Mac &amp\; Stevie Nicks Tribute Show @ Murrah Hal
 l
END:VEVENT
END:VCALENDAR
