BEGIN:VCALENDAR
VERSION:2.0
PRODID:-//Squarespace Inc/Squarespace 6//v6//EN
BEGIN:VEVENT
UID:5e50b697af3a3e1585807c2e@squarespace.com
DTSTAMP:20200222T051003Z
DTSTART:20200229T080000Z
DTEND:20200229T113000Z
SUMMARY:Dog Trumpet @ Murrah Hall
END:VEVENT
END:VCALENDAR
