BEGIN:VCALENDAR
VERSION:2.0
PRODID:-//Squarespace Inc/Squarespace 6//v6//EN
BEGIN:VEVENT
UID:5e3104551a430d4cd2e10a41@squarespace.com
DTSTAMP:20200208T003410Z
DTSTART:20200213T000000Z
DTEND:20200216T050000Z
SUMMARY:Dog Show - Sapphire Coast Kennel &amp\; Obedience Club
END:VEVENT
END:VCALENDAR
