BEGIN:VCALENDAR
VERSION:2.0
PRODID:-//Squarespace Inc/Squarespace 6//v6//EN
BEGIN:VEVENT
UID:5e3103465140e4031d6c7775@squarespace.com
DTSTAMP:20200208T003336Z
DTSTART:20200208T000000Z
DTEND:20200212T090000Z
SUMMARY:Dog Show - Bega Valley Kennel &amp\; Obedience Club
END:VEVENT
END:VCALENDAR
