BEGIN:VCALENDAR
VERSION:2.0
PRODID:-//Squarespace Inc/Squarespace 6//v6//EN
BEGIN:VEVENT
UID:5de0cb97305b2260c99d128d@squarespace.com
DTSTAMP:20191215T014735Z
DTSTART:20191222T020000Z
DTEND:20191222T050000Z
SUMMARY:Sunday Sesh @ Camel Rock Brewery &amp\; Cafe
END:VEVENT
END:VCALENDAR
