BEGIN:VCALENDAR
VERSION:2.0
PRODID:-//Squarespace Inc/Squarespace 6//v6//EN
BEGIN:VEVENT
UID:5e3105e55e09e066cfdd6bb0@squarespace.com
DTSTAMP:20200129T041152Z
DTSTART:20200214T090000Z
DTEND:20200214T113000Z
SUMMARY:Live Music @ Bermagui Country Club
END:VEVENT
END:VCALENDAR
