BEGIN:VCALENDAR
VERSION:2.0
PRODID:-//Squarespace Inc/Squarespace 6//v6//EN
BEGIN:VEVENT
UID:5de0cbdc305b2260c99d1759@squarespace.com
DTSTAMP:20191129T074238Z
DTSTART:20191229T020000Z
DTEND:20191229T050000Z
SUMMARY:Sunday Sesh @ Camel Rock Brewery &amp\; Cafe
END:VEVENT
END:VCALENDAR
