BEGIN:VCALENDAR
VERSION:2.0
PRODID:-//Squarespace Inc/Squarespace 6//v6//EN
BEGIN:VEVENT
UID:5de0b2cbf26533387af2c5b3@squarespace.com
DTSTAMP:20191129T055600Z
DTSTART:20191229T050000Z
DTEND:20191229T080000Z
SUMMARY:Live Music @ Bermagui Beach Hotel
END:VEVENT
END:VCALENDAR
