BEGIN:VCALENDAR
VERSION:2.0
PRODID:-//Squarespace Inc/Squarespace 6//v6//EN
BEGIN:VEVENT
UID:5de0b82036172f0b2f7ef849@squarespace.com
DTSTAMP:20191129T063804Z
DTSTART:20191222T013000Z
DTEND:20191222T043000Z
SUMMARY:Live Music @ Tilba Valley Winery &amp\; Ale House
END:VEVENT
END:VCALENDAR
